BEGIN:VCALENDAR
VERSION:2.0
PRODID:-//Run for Parkinson&#039;s - ECPv6.10.1.1//NONSGML v1.0//EN
CALSCALE:GREGORIAN
METHOD:PUBLISH
X-ORIGINAL-URL:https://run4parkinson.org
X-WR-CALDESC:Events for Run for Parkinson&#039;s
REFRESH-INTERVAL;VALUE=DURATION:PT1H
X-Robots-Tag:noindex
X-PUBLISHED-TTL:PT1H
BEGIN:VTIMEZONE
TZID:UTC
BEGIN:STANDARD
TZOFFSETFROM:+0000
TZOFFSETTO:+0000
TZNAME:UTC
DTSTART:20250101T000000
END:STANDARD
END:VTIMEZONE
BEGIN:VEVENT
DTSTART;VALUE=DATE:20250817
DTEND;VALUE=DATE:20250821
DTSTAMP:20260423T112722
CREATED:20250225T231934Z
LAST-MODIFIED:20250225T231934Z
UID:3059-1755388800-1755734399@run4parkinson.org
SUMMARY:2025 Falmouth Road Race
DESCRIPTION:The Parkinson’s Foundation is proud to be an official charity partner for the 2025 Falmouth Road Race. By registering to run as a Parkinson’s Champion\, you commit to raising funds and awareness for the foundation. In return\, you’ll receive a free race entry (bib) along with a variety of exciting benefits and perks. \nFundraising Goals:\n• 7 miles – $1\,500\n• Honorary Champion or At-Home Edition – $500 \nFounded in 1973\, the Falmouth Road Race has become one of the top running events of the summer. Each year\, the race attracts an international mix of Olympians\, elite athletes\, and recreational runners\, all enjoying the stunning 7-mile seaside course. The new FRR At-Home Edition lets you experience the race from your own hometown. You can walk or run 7 miles over the course of 7 days starting on August 10th.
URL:https://run4parkinson.org/event/2025-falmouth-road-race/
LOCATION:Falmouth\, MA\, Falmouth\, MA\, United States
CATEGORIES:Runs
ATTACH;FMTTYPE=image/webp:https://run4parkinson.org/wp-content/uploads/2025/02/ChampionsBanner.webp
END:VEVENT
END:VCALENDAR