BEGIN:VCALENDAR
VERSION:2.0
PRODID:-//Run for Parkinson&#039;s - ECPv6.10.1.1//NONSGML v1.0//EN
CALSCALE:GREGORIAN
METHOD:PUBLISH
X-WR-CALNAME:Run for Parkinson&#039;s
X-ORIGINAL-URL:https://run4parkinson.org
X-WR-CALDESC:Events for Run for Parkinson&#039;s
REFRESH-INTERVAL;VALUE=DURATION:PT1H
X-Robots-Tag:noindex
X-PUBLISHED-TTL:PT1H
BEGIN:VTIMEZONE
TZID:UTC
BEGIN:STANDARD
TZOFFSETFROM:+0000
TZOFFSETTO:+0000
TZNAME:UTC
DTSTART:20250101T000000
END:STANDARD
END:VTIMEZONE
BEGIN:VEVENT
DTSTART;TZID=UTC:20250704T060000
DTEND;TZID=UTC:20250704T180000
DTSTAMP:20260423T130339
CREATED:20250225T231545Z
LAST-MODIFIED:20250225T231545Z
UID:3053-1751608800-1751652000@run4parkinson.org
SUMMARY:2025 Peachtree Road Race
DESCRIPTION:The Parkinson’s Foundation is proud to be an official charity partner for the 2025 AJC Peachtree Road Race. When you register as a Parkinson’s Champion\, you commit to raising funds and awareness for the foundation. In return\, you’ll receive a free race entry (bib) and enjoy a variety of exciting benefits and perks. \nFundraising Goals: \n• 10k – TBD\n• Honorary Champion – $500 \nThe AJC Peachtree Road Race is more than just a race; it’s a celebration of community\, resilience\, and Atlanta’s vibrant spirit. For over 50 years\, this event has united people from all walks of life\, coming together on Independence Day for a unique celebration of running and walking. Spanning 6.2 miles\, the race takes participants from Buckhead to Midtown and concludes in Piedmont Park in Atlanta. \nNote: Please keep in mind that race weekend can bring high temperatures. Be sure to consult your doctor and make a plan to stay safe while exercising in the heat.
URL:https://run4parkinson.org/event/2025-peachtree-road-race/
LOCATION:Atlanta\, GA\, Atlanta\, GA\, United States
CATEGORIES:Runs
ATTACH;FMTTYPE=image/webp:https://run4parkinson.org/wp-content/uploads/2025/02/ChampionsBanner.webp
END:VEVENT
END:VCALENDAR