BEGIN:VCALENDAR
VERSION:2.0
PRODID:-//Run for Parkinson&#039;s - ECPv6.10.1.1//NONSGML v1.0//EN
CALSCALE:GREGORIAN
METHOD:PUBLISH
X-ORIGINAL-URL:https://run4parkinson.org
X-WR-CALDESC:Events for Run for Parkinson&#039;s
REFRESH-INTERVAL;VALUE=DURATION:PT1H
X-Robots-Tag:noindex
X-PUBLISHED-TTL:PT1H
BEGIN:VTIMEZONE
TZID:UTC
BEGIN:STANDARD
TZOFFSETFROM:+0000
TZOFFSETTO:+0000
TZNAME:UTC
DTSTART:20250101T000000
END:STANDARD
END:VTIMEZONE
BEGIN:VEVENT
DTSTART;VALUE=DATE:20250315
DTEND;VALUE=DATE:20250317
DTSTAMP:20260423T193142
CREATED:20250225T222040Z
LAST-MODIFIED:20250225T224151Z
UID:3030-1741996800-1742169599@run4parkinson.org
SUMMARY:2025 Los Angeles Marathon Weekend
DESCRIPTION:The Parkinson’s Foundation is proud to be an official charity partner for the 2025 Los Angeles Marathon Weekend. By signing up to run as a Parkinson’s Champion\, you commit to raising funds and awareness for the Foundation. In return\, you’ll receive a free race entry (bib) and enjoy many exciting benefits and perks. \nFundraising Commitments: \n\nVIP: $5\,000\nMarathon: $1\,000\nHalf Marathon: $750\n5K or Honorary Champion: $500\n\nThe Los Angeles Marathon course runs from Stadium to the Stars\, offering a stunning view of the city’s vibrant neighborhoods and iconic landmarks. Whether you’re an experienced marathoner or a first-time participant\, this event promises an unforgettable experience for runners of all levels. \nThe Charity Half Marathon is a special event within the Los Angeles Marathon\, where all participants are running to give back. It combines the intimate atmosphere of a nonprofit community with the high-energy support of one of the largest marathons in the U.S. \nThe Big 5 Sporting Goods LA 5K is a family-friendly race\, open to participants of all ages and abilities\, including runners\, walkers\, and strollers. Run through the beautiful Elysian Park and finish with a stunning view of Dodger Stadium. All participants will receive a race shirt\, finisher’s medal\, post-race refreshments\, and an unforgettable experience. \nNote: The 5K takes place on March 15th\, while the Marathon and Half Marathon are on March 16th.
URL:https://run4parkinson.org/event/2025-los-angeles-marathon-weekend/
LOCATION:Los Angeles\, CA\, Los Angeles\, CA\, United States
CATEGORIES:Runs
ATTACH;FMTTYPE=image/webp:https://run4parkinson.org/wp-content/uploads/2025/02/ChampionsBanner.webp
END:VEVENT
BEGIN:VEVENT
DTSTART;TZID=UTC:20250316T090000
DTEND;TZID=UTC:20250316T200000
DTSTAMP:20260423T193142
CREATED:20250225T222431Z
LAST-MODIFIED:20250225T224636Z
UID:3034-1742115600-1742155200@run4parkinson.org
SUMMARY:2025 United Airlines NYC Half Marathon
DESCRIPTION:The Parkinson’s Foundation is an official charity partner for the 2025 United Airlines NYC Half Marathon. By signing up to run as a Parkinson’s Champion\, you commit to raising funds and awareness for the Foundation\, and in return\, you’ll receive a free race entry (bib) along with many exciting benefits and perks. \nFundraising Commitments: \n\nVIP: $5\,000\nHalf Marathon: $2\,000\nHonorary Champion: $500\n\nThe NYC Half Marathon offers a unique experience\, taking you through New York City’s historic landmarks\, popular parks\, scenic views from the Manhattan Bridge\, and diverse neighborhoods. The race begins in Prospect Park\, Brooklyn\, passing by Grand Army Plaza\, the United Nations\, Grand Central Terminal\, and Times Square\, before finishing near the iconic TCS New York City Marathon finish line in Central Park. \nNote: Starting in 2022\, the New York City Road Runners require all runners to pay a portion of their own entry fee (around $130). However\, you’ll still have a guaranteed spot\, and the Parkinson’s Foundation will cover the bib fee (around $250).
URL:https://run4parkinson.org/event/2025-united-airlines-nyc-half-marathon/
LOCATION:New York City\, NY\, New York City\, NY\, United States
CATEGORIES:Runs
ATTACH;FMTTYPE=image/webp:https://run4parkinson.org/wp-content/uploads/2025/02/ChampionsBanner.webp
END:VEVENT
END:VCALENDAR